BEGIN:VCALENDAR
VERSION:2.0
PRODID:-//ZContent.net//ZapCalLib 1.0//EN
CALSCALE:GREGORIAN
METHOD:PUBLISH
BEGIN:VEVENT
SUMMARY:Ausstellung „Zusammentun-Solidarisch gegen Rechts“
DTSTART:20240501T100000
DTEND:20240623T210000
UID:2026-04-25-12-28-48-0-@calendar.boell.de
DTSTAMP:20260425T102848
DESCRIPTION:▶ Siehe Veranstaltungsbeschreibung – Rostock – Landesstif
 tung Mecklenburg-Vorpommern
END:VEVENT
END:VCALENDAR
