BEGIN:VCALENDAR
VERSION:2.0
PRODID:-//ZContent.net//ZapCalLib 1.0//EN
CALSCALE:GREGORIAN
METHOD:PUBLISH
BEGIN:VEVENT
SUMMARY:Das Wasser in der Landschaft halten | Wie wir auch in Zukunft ausre
 ichend Wasser in Brandenburg haben
DTSTART:20240608T130000
DTEND:20240609T170000
UID:2026-04-25-01-10-09-0-@calendar.boell.de
DTSTAMP:20260424T231009
DESCRIPTION:▶ Siehe Veranstaltungsbeschreibung – Berlin – Landesstift
 ung Brandenburg
END:VEVENT
END:VCALENDAR
