BEGIN:VCALENDAR
VERSION:2.0
PRODID:-//ZContent.net//ZapCalLib 1.0//EN
CALSCALE:GREGORIAN
METHOD:PUBLISH
BEGIN:VEVENT
SUMMARY:Alles im Fluss!? - Wasser in der Krise | Ausstellung in Görlitz
DTSTART:20240605T183000
DTEND:20240723T150000
UID:2026-04-24-03-26-13-0-@calendar.boell.de
DTSTAMP:20260424T012613
DESCRIPTION:▶ Siehe Veranstaltungsbeschreibung – Görlitz – Landessti
 ftung Sachsen (Weiterdenken)
END:VEVENT
END:VCALENDAR
