BEGIN:VCALENDAR
VERSION:2.0
PRODID:-//ZContent.net//ZapCalLib 1.0//EN
CALSCALE:GREGORIAN
METHOD:PUBLISH
BEGIN:VEVENT
SUMMARY:AUSGEBUCHT Empowerment für Queere Menschen
DTSTART:20240705T100000
DTEND:20240705T170000
UID:2026-04-24-11-22-25-0-@calendar.boell.de
DTSTAMP:20260424T092225
DESCRIPTION:▶ Siehe Veranstaltungsbeschreibung – Hamburg – 
END:VEVENT
END:VCALENDAR
