BEGIN:VCALENDAR
VERSION:2.0
PRODID:-//ZContent.net//ZapCalLib 1.0//EN
CALSCALE:GREGORIAN
METHOD:PUBLISH
BEGIN:VEVENT
SUMMARY:KULISSEN DER MACHT / CORRIDORS OF POWER | Filmgespräch mit dem Dro
 r Moreh und dem Autor und Editor Oron Adar
DTSTART:20240528T200000
DTEND:20240528T220000
UID:2026-04-24-07-55-46-0-@calendar.boell.de
DTSTAMP:20260424T055546
DESCRIPTION:▶ Siehe Veranstaltungsbeschreibung – Chemnitz – Landessti
 ftung Sachsen (Weiterdenken)
END:VEVENT
END:VCALENDAR
