BEGIN:VCALENDAR
VERSION:2.0
PRODID:-//ZContent.net//ZapCalLib 1.0//EN
CALSCALE:GREGORIAN
METHOD:PUBLISH
BEGIN:VEVENT
SUMMARY:Die öffentliche Meinung in Israel nach dem 7. Oktober  | interne u
 nd externe Aspekte
DTSTART:20240507T173000
DTEND:20240507T183000
UID:2026-04-26-04-41-30-0-@calendar.boell.de
DTSTAMP:20260426T024130
DESCRIPTION:▶ Siehe Veranstaltungsbeschreibung – Heinrich-Böll-Stiftun
 g - Bundesstiftung Berlin
END:VEVENT
END:VCALENDAR
