BEGIN:VCALENDAR
VERSION:2.0
PRODID:-//ZContent.net//ZapCalLib 1.0//EN
CALSCALE:GREGORIAN
METHOD:PUBLISH
BEGIN:VEVENT
SUMMARY:München liest - aus verbrannten Büchern | Für Frieden und Mensch
 enrechte - gegen Rüstung und Krieg
DTSTART:20240510T100000
DTEND:20240510T180000
UID:2026-04-24-12-28-28-0-@calendar.boell.de
DTSTAMP:20260424T102828
DESCRIPTION:▶ Siehe Veranstaltungsbeschreibung – München – Petra-Kel
 ly-Stiftung
END:VEVENT
END:VCALENDAR
