BEGIN:VCALENDAR
VERSION:2.0
PRODID:-//ZContent.net//ZapCalLib 1.0//EN
CALSCALE:GREGORIAN
METHOD:PUBLISH
BEGIN:VEVENT
SUMMARY:Antifeministische Narrative - Erkennen und Verstehen | Vortrag und 
 Gespräch mit Andreas Kemper
DTSTART:20240529T153000
DTEND:20240529T170000
UID:2026-04-24-06-41-23-0-@calendar.boell.de
DTSTAMP:20260424T044123
DESCRIPTION:▶ Online-Veranstaltung – Antifeminismus begegnen
END:VEVENT
END:VCALENDAR
