BEGIN:VCALENDAR
VERSION:2.0
PRODID:-//ZContent.net//ZapCalLib 1.0//EN
CALSCALE:GREGORIAN
METHOD:PUBLISH
BEGIN:VEVENT
SUMMARY:1700 Jahre Jüdisches Leben | Wir sind da! Konzertlesung mit Uwe vo
 n Seltmann (Lesung) und Warnfried Altmann (Saxophon)
DTSTART:20240424T190000
DTEND:20240424T203000
UID:2026-04-25-23-21-44-0-@calendar.boell.de
DTSTAMP:20260425T212144
DESCRIPTION:▶ Siehe Veranstaltungsbeschreibung – Rövershagen – Lande
 sstiftung Mecklenburg-Vorpommern
END:VEVENT
END:VCALENDAR
