BEGIN:VCALENDAR
VERSION:2.0
PRODID:-//ZContent.net//ZapCalLib 1.0//EN
CALSCALE:GREGORIAN
METHOD:PUBLISH
BEGIN:VEVENT
SUMMARY:Wir können auch anders | Die Feministische Presserunde
DTSTART:20240527T180000
DTEND:20240527T193000
UID:2026-04-24-20-37-53-0-@calendar.boell.de
DTSTAMP:20260424T183753
DESCRIPTION:▶ Online-Veranstaltung – Landesstiftung Hessen
END:VEVENT
END:VCALENDAR
