BEGIN:VCALENDAR
VERSION:2.0
PRODID:-//ZContent.net//ZapCalLib 1.0//EN
CALSCALE:GREGORIAN
METHOD:PUBLISH
BEGIN:VEVENT
SUMMARY:Fair und nachhaltig? Ausbeutung hat Saison! | Im Rahmen der Thement
 age »Ostopia«
DTSTART:20240503T180000
DTEND:20240512T200000
UID:2026-04-23-03-08-41-0-@calendar.boell.de
DTSTAMP:20260423T010841
DESCRIPTION:▶ Siehe Veranstaltungsbeschreibung – Mannheim – Heinrich 
 Böll Stiftung Baden-Württemberg
END:VEVENT
END:VCALENDAR
