BEGIN:VCALENDAR
VERSION:2.0
PRODID:-//ZContent.net//ZapCalLib 1.0//EN
CALSCALE:GREGORIAN
METHOD:PUBLISH
BEGIN:VEVENT
SUMMARY:Data for All: Datensouveränität und die sinnvolle Nutzung von Dat
 en für Kommunen und Bürger*innen | auf der Digitalen Woche Kiel
DTSTART:20240516T180000
DTEND:20240516T200000
UID:2026-04-24-22-18-34-0-@calendar.boell.de
DTSTAMP:20260424T201834
DESCRIPTION:▶ Siehe Veranstaltungsbeschreibung – Kiel – Landesstiftun
 g Schleswig-Holstein
END:VEVENT
END:VCALENDAR
