BEGIN:VCALENDAR
VERSION:2.0
PRODID:-//ZContent.net//ZapCalLib 1.0//EN
CALSCALE:GREGORIAN
METHOD:PUBLISH
BEGIN:VEVENT
SUMMARY:Bilderbuchkino „Fritzi war dabei. Eine Wendewundergeschichte“
DTSTART:20240531T160000
DTEND:20240531T170000
UID:2026-04-25-12-29-09-0-@calendar.boell.de
DTSTAMP:20260425T102909
DESCRIPTION:▶ Siehe Veranstaltungsbeschreibung – Rostock – Landesstif
 tung Mecklenburg-Vorpommern
END:VEVENT
END:VCALENDAR
