BEGIN:VCALENDAR
VERSION:2.0
PRODID:-//ZContent.net//ZapCalLib 1.0//EN
CALSCALE:GREGORIAN
METHOD:PUBLISH
BEGIN:VEVENT
SUMMARY:Wie geht gute Klimakommunikation? | Ein interaktiver Online-Worksho
 p
DTSTART:20240522T170000
DTEND:20240522T200000
UID:2026-04-25-14-16-02-0-@calendar.boell.de
DTSTAMP:20260425T121602
DESCRIPTION:▶ Online-Veranstaltung – Landesstiftung Hessen
END:VEVENT
END:VCALENDAR
