BEGIN:VCALENDAR
VERSION:2.0
PRODID:-//ZContent.net//ZapCalLib 1.0//EN
CALSCALE:GREGORIAN
METHOD:PUBLISH
BEGIN:VEVENT
SUMMARY:Was von der Liebe bleibt
DTSTART:20240410T200000
DTEND:20240410T223000
UID:2026-04-24-12-28-15-0-@calendar.boell.de
DTSTAMP:20260424T102815
DESCRIPTION:â–¶ Siehe Veranstaltungsbeschreibung â€“ Berlin â€“ Heinrich-BÃ
 ¶ll-Stiftung im Stiftungsverbund
END:VEVENT
END:VCALENDAR
