BEGIN:VCALENDAR
VERSION:2.0
PRODID:-//ZContent.net//ZapCalLib 1.0//EN
CALSCALE:GREGORIAN
METHOD:PUBLISH
BEGIN:VEVENT
SUMMARY:Solidarisch gegen Antisemitismus - Austausch und Besuch der Liberal
 en Jüdischen Gemeinde Hannover | sozialpolistische Reihe des Frauenzentru
 m Laatzen
DTSTART:20240605T180000
DTEND:20240605T200000
UID:2026-04-25-04-13-11-0-@calendar.boell.de
DTSTAMP:20260425T021311
DESCRIPTION:▶ Siehe Veranstaltungsbeschreibung – Hannover – Stiftung 
 Leben & Umwelt / Heinrich-Böll-Stiftung Niedersachsen
END:VEVENT
END:VCALENDAR
