BEGIN:VCALENDAR
VERSION:2.0
PRODID:-//ZContent.net//ZapCalLib 1.0//EN
CALSCALE:GREGORIAN
METHOD:PUBLISH
BEGIN:VEVENT
SUMMARY:Wiedersehen mit Brundibár (Schulvorstellung)  | Dokumentarfilm und
  Filmgespräch mit Douglas Wolfsperger
DTSTART:20240430T110000
DTEND:20240430T133000
UID:2026-04-25-06-20-06-0-@calendar.boell.de
DTSTAMP:20260425T042006
DESCRIPTION:▶ Siehe Veranstaltungsbeschreibung – Hamburg – Landesstif
 tung Hamburg
END:VEVENT
END:VCALENDAR
