BEGIN:VCALENDAR
VERSION:2.0
PRODID:-//ZContent.net//ZapCalLib 1.0//EN
CALSCALE:GREGORIAN
METHOD:PUBLISH
BEGIN:VEVENT
SUMMARY:Sexualisierte Gewalt gegen Kinder und Jugendliche. Geschlechterrefl
 ektierende Perspektiven | Workshopreihe
DTSTART:20240423T150000
DTEND:20240423T183000
UID:2026-04-24-00-35-43-0-@calendar.boell.de
DTSTAMP:20260423T223543
DESCRIPTION:▶ Siehe Veranstaltungsbeschreibung – Landesstiftung Sachsen
  (Weiterdenken)
END:VEVENT
END:VCALENDAR
