BEGIN:VCALENDAR
VERSION:2.0
PRODID:-//ZContent.net//ZapCalLib 1.0//EN
CALSCALE:GREGORIAN
METHOD:PUBLISH
BEGIN:VEVENT
SUMMARY:Kampf und Sehnsucht in der Mitte der Gesellschaft | Lesung und Gesp
 räch mit Stephan Anpalagan in Triptis
DTSTART:20240410T190000
DTEND:20240410T203000
UID:2026-04-25-05-00-49-0-@calendar.boell.de
DTSTAMP:20260425T030049
DESCRIPTION:▶ Siehe Veranstaltungsbeschreibung – Landesstiftung Thürin
 gen
END:VEVENT
END:VCALENDAR
