BEGIN:VCALENDAR
VERSION:2.0
PRODID:-//ZContent.net//ZapCalLib 1.0//EN
CALSCALE:GREGORIAN
METHOD:PUBLISH
BEGIN:VEVENT
SUMMARY: Das Recht auf Reparatur? Auch für Kleider und Textilien! | Expert
 *innen-Gespräch im Rahmen der Fashion Revolution Week 2024
DTSTART:20240417T180000
DTEND:20240417T193000
UID:2026-04-25-23-42-16-0-@calendar.boell.de
DTSTAMP:20260425T214216
DESCRIPTION:▶ Online-Veranstaltung – Landesstiftung Sachsen-Anhalt
END:VEVENT
END:VCALENDAR
