BEGIN:VCALENDAR
VERSION:2.0
PRODID:-//ZContent.net//ZapCalLib 1.0//EN
CALSCALE:GREGORIAN
METHOD:PUBLISH
BEGIN:VEVENT
SUMMARY:Premiere: Das leere Grab | Kick-off Dialogforum "Dino in the room"
DTSTART:20240514T190000
DTEND:20240514T213000
UID:2026-04-24-00-54-36-0-@calendar.boell.de
DTSTAMP:20260423T225436
DESCRIPTION:â–¶ Siehe Veranstaltungsbeschreibung â€“ Berlin â€“ Heinrich-BÃ
 ¶ll-Stiftung - Bundesstiftung Berlin
END:VEVENT
END:VCALENDAR
