BEGIN:VCALENDAR
VERSION:2.0
PRODID:-//ZContent.net//ZapCalLib 1.0//EN
CALSCALE:GREGORIAN
METHOD:PUBLISH
BEGIN:VEVENT
SUMMARY:Böll-Montagskino & Gespräch: PLASTIC FANTASTIC 
DTSTART:20240429T190000
DTEND:20240429T211500
UID:2026-04-25-22-44-31-0-@calendar.boell.de
DTSTAMP:20260425T204431
DESCRIPTION:▶ Siehe Veranstaltungsbeschreibung – Rostock – Landesstif
 tung Mecklenburg-Vorpommern
END:VEVENT
END:VCALENDAR
