BEGIN:VCALENDAR
VERSION:2.0
PRODID:-//ZContent.net//ZapCalLib 1.0//EN
CALSCALE:GREGORIAN
METHOD:PUBLISH
BEGIN:VEVENT
SUMMARY:Geführter Ausstellungsrundgang | zusammentun – solidarisch gegen
  rechts
DTSTART:20240425T190000
DTEND:20240425T203000
UID:2026-04-23-20-25-54-0-@calendar.boell.de
DTSTAMP:20260423T182554
DESCRIPTION:▶ Siehe Veranstaltungsbeschreibung – Dresden – Landesstif
 tung Sachsen (Weiterdenken)
END:VEVENT
END:VCALENDAR
