BEGIN:VCALENDAR
VERSION:2.0
PRODID:-//ZContent.net//ZapCalLib 1.0//EN
CALSCALE:GREGORIAN
METHOD:PUBLISH
BEGIN:VEVENT
SUMMARY:#2 - Den digitalen Raum bändigen | Reihe "Journalismus unter Druck
 "
DTSTART:20240411T170000
DTEND:20240411T183000
UID:2026-04-24-00-36-50-0-@calendar.boell.de
DTSTAMP:20260423T223650
DESCRIPTION:▶ Online-Veranstaltung – Heinrich-Böll-Stiftung im Stiftun
 gsverbund
END:VEVENT
END:VCALENDAR
