BEGIN:VCALENDAR
VERSION:2.0
PRODID:-//ZContent.net//ZapCalLib 1.0//EN
CALSCALE:GREGORIAN
METHOD:PUBLISH
BEGIN:VEVENT
SUMMARY:MY BODY - MY RIGHTS. ALTERNATIVEN ZUM § 218 | Fachtag
DTSTART:20240419T090000
DTEND:20240419T180000
UID:2026-04-25-04-12-49-0-@calendar.boell.de
DTSTAMP:20260425T021249
DESCRIPTION:▶ Siehe Veranstaltungsbeschreibung – Dresden – Landesstif
 tung Sachsen (Weiterdenken)
END:VEVENT
END:VCALENDAR
