BEGIN:VCALENDAR
VERSION:2.0
PRODID:-//ZContent.net//ZapCalLib 1.0//EN
CALSCALE:GREGORIAN
METHOD:PUBLISH
BEGIN:VEVENT
SUMMARY:Pflanzenkohle: Klimaschonend zu besserem Wachstum  | Vortrag & Work
 shop aus der Reihe "Wissen wächst" rund um das Thema Boden
DTSTART:20240409T193000
DTEND:20240409T210000
UID:2026-04-25-17-48-49-0-@calendar.boell.de
DTSTAMP:20260425T154849
DESCRIPTION:▶ Siehe Veranstaltungsbeschreibung – Dresden – Landesstif
 tung Sachsen (Weiterdenken)
END:VEVENT
END:VCALENDAR
