BEGIN:VCALENDAR
VERSION:2.0
PRODID:-//ZContent.net//ZapCalLib 1.0//EN
CALSCALE:GREGORIAN
METHOD:PUBLISH
BEGIN:VEVENT
SUMMARY:Das Liebesleben der Vögel - Ernst Paul Dörfler im Gespräch | Buc
 hvorstellung mit Gespräch und geführter Spaziergang "Artenvielfalt in Na
 umburg"
DTSTART:20240415T173000
DTEND:20240415T193000
UID:2026-04-25-04-13-04-0-@calendar.boell.de
DTSTAMP:20260425T021304
DESCRIPTION:▶ Siehe Veranstaltungsbeschreibung – Landesstiftung Sachsen
 -Anhalt
END:VEVENT
END:VCALENDAR
