BEGIN:VCALENDAR
VERSION:2.0
PRODID:-//ZContent.net//ZapCalLib 1.0//EN
CALSCALE:GREGORIAN
METHOD:PUBLISH
BEGIN:VEVENT
SUMMARY:Das Liebesleben der Vögel - Ernst Paul Dörfler im Gespräch | Buc
 hvorstellung mit Gespräch und Nistkastenbau-Workshop
DTSTART:20240309T160000
DTEND:20240309T173000
UID:2026-04-25-01-00-12-0-@calendar.boell.de
DTSTAMP:20260424T230012
DESCRIPTION:Landesstiftung Sachsen-Anhalt
END:VEVENT
END:VCALENDAR
