BEGIN:VCALENDAR
VERSION:2.0
PRODID:-//ZContent.net//ZapCalLib 1.0//EN
CALSCALE:GREGORIAN
METHOD:PUBLISH
BEGIN:VEVENT
SUMMARY:Gegenwind geben, Haltung zeigen | Argumentationstraining gegen  Ant
 ifeminismus
DTSTART:20240410T170000
DTEND:20240410T200000
UID:2026-04-23-21-19-32-0-@calendar.boell.de
DTSTAMP:20260423T191932
DESCRIPTION:▶ Siehe Veranstaltungsbeschreibung – Mannheim – Antifemin
 ismus begegnen
END:VEVENT
END:VCALENDAR
