BEGIN:VCALENDAR
VERSION:2.0
PRODID:-//ZContent.net//ZapCalLib 1.0//EN
CALSCALE:GREGORIAN
METHOD:PUBLISH
BEGIN:VEVENT
SUMMARY:„Flügel“ - dokumentarische Performance des Theaterstudios „T
 eatromania 2:0"  
DTSTART:20240223T190000
DTEND:20240223T210000
UID:2026-04-25-04-59-45-0-@calendar.boell.de
DTSTAMP:20260425T025945
DESCRIPTION:▶ Siehe Veranstaltungsbeschreibung – Hannover – Externe V
 eranstaltung
END:VEVENT
END:VCALENDAR
