BEGIN:VCALENDAR
VERSION:2.0
PRODID:-//ZContent.net//ZapCalLib 1.0//EN
CALSCALE:GREGORIAN
METHOD:PUBLISH
BEGIN:VEVENT
SUMMARY:Zukunftsinitiative Land(wirt)schaft | Boden - Wasser - Klima - Biod
 iversität
DTSTART:20240216T160000
DTEND:20240308T213000
UID:2026-04-24-10-45-00-0-@calendar.boell.de
DTSTAMP:20260424T084500
DESCRIPTION:▶ Siehe Veranstaltungsbeschreibung – Petra-Kelly-Stiftung
END:VEVENT
END:VCALENDAR
