BEGIN:VCALENDAR
VERSION:2.0
PRODID:-//ZContent.net//ZapCalLib 1.0//EN
CALSCALE:GREGORIAN
METHOD:PUBLISH
BEGIN:VEVENT
SUMMARY:(ausgebucht): Rechte Ideologien am Gartenzaun? | aus der Reihe Fit 
 for Politics
DTSTART:20240409T160000
DTEND:20240409T200000
UID:2026-04-24-10-44-47-0-@calendar.boell.de
DTSTAMP:20260424T084447
DESCRIPTION:▶ Online-Veranstaltung – Stiftung Leben & Umwelt / Heinrich
 -Böll-Stiftung Niedersachsen
END:VEVENT
END:VCALENDAR
