BEGIN:VCALENDAR
VERSION:2.0
PRODID:-//ZContent.net//ZapCalLib 1.0//EN
CALSCALE:GREGORIAN
METHOD:PUBLISH
BEGIN:VEVENT
SUMMARY:Де роки квітучі пройшли | Wo die besten Jahre v
 ergangen sind | Zwangsarbeiterinnnen und Zwangsarbeiter aus der Ukraine im
  Dritten Reich. Geschichte, Gedenken und Gegenwart - Vortrag auf deutsch
DTSTART:20240311T190000
DTEND:20240311T203000
UID:2026-04-26-04-41-23-0-@calendar.boell.de
DTSTAMP:20260426T024123
DESCRIPTION:▶ Siehe Veranstaltungsbeschreibung – Heinrich Böll Stiftun
 g Baden-Württemberg
END:VEVENT
END:VCALENDAR
