BEGIN:VCALENDAR
VERSION:2.0
PRODID:-//ZContent.net//ZapCalLib 1.0//EN
CALSCALE:GREGORIAN
METHOD:PUBLISH
BEGIN:VEVENT
SUMMARY:„Eine geschlechtergerechte und verständliche Sprache - wie krieg
 en wir das hin, Luise Pusch?“
DTSTART:20240308T170000
DTEND:20240308T190000
UID:2026-04-24-16-36-20-0-@calendar.boell.de
DTSTAMP:20260424T143620
DESCRIPTION:▶ Siehe Veranstaltungsbeschreibung – Stralsund – Landesst
 iftung Mecklenburg-Vorpommern
END:VEVENT
END:VCALENDAR
