BEGIN:VCALENDAR
VERSION:2.0
PRODID:-//ZContent.net//ZapCalLib 1.0//EN
CALSCALE:GREGORIAN
METHOD:PUBLISH
BEGIN:VEVENT
SUMMARY:Solarschnack – Bürgersolaranlagen, Balkonsolar & Selbstbau | Mit
  bewirk – Gemeinsam fürs Klima
DTSTART:20240312T190000
DTEND:20240312T203000
UID:2026-04-25-23-41-15-0-@calendar.boell.de
DTSTAMP:20260425T214115
DESCRIPTION:▶ Online-Veranstaltung – Landesstiftung Schleswig-Holstein
END:VEVENT
END:VCALENDAR
