BEGIN:VCALENDAR
VERSION:2.0
PRODID:-//ZContent.net//ZapCalLib 1.0//EN
CALSCALE:GREGORIAN
METHOD:PUBLISH
BEGIN:VEVENT
SUMMARY:Nachhaltigkeit und Menschenrechte im Finanzsektor stärken | Politi
 sches Online-Fachgespräch
DTSTART:20240205T123000
DTEND:20240205T144500
UID:2026-04-24-00-36-38-0-@calendar.boell.de
DTSTAMP:20260423T223638
DESCRIPTION:▶ Online-Veranstaltung – Heinrich Böll Stiftung Baden-Wür
 ttemberg
END:VEVENT
END:VCALENDAR
