BEGIN:VCALENDAR
VERSION:2.0
PRODID:-//ZContent.net//ZapCalLib 1.0//EN
CALSCALE:GREGORIAN
METHOD:PUBLISH
BEGIN:VEVENT
SUMMARY:Ein Jahr Chancenaufenthaltsrecht in Bayern | Fachtag
DTSTART:20240120T123000
DTEND:20240120T203000
UID:2026-04-23-21-00-33-0-@calendar.boell.de
DTSTAMP:20260423T190033
DESCRIPTION:▶ Siehe Veranstaltungsbeschreibung – München – 
END:VEVENT
END:VCALENDAR
