BEGIN:VCALENDAR
VERSION:2.0
PRODID:-//ZContent.net//ZapCalLib 1.0//EN
CALSCALE:GREGORIAN
METHOD:PUBLISH
BEGIN:VEVENT
SUMMARY:We are still here | Ausstellung von Collagen von Jana Zimmer, US-am
 erikanische Autorin und Künstlerin  
DTSTART:20240128T180000
DTEND:20240229T180000
UID:2026-04-25-05-00-14-0-@calendar.boell.de
DTSTAMP:20260425T030014
DESCRIPTION:▶ Siehe Veranstaltungsbeschreibung – Chemnitz – Landessti
 ftung Sachsen (Weiterdenken)
END:VEVENT
END:VCALENDAR
