BEGIN:VCALENDAR
VERSION:2.0
PRODID:-//ZContent.net//ZapCalLib 1.0//EN
CALSCALE:GREGORIAN
METHOD:PUBLISH
BEGIN:VEVENT
SUMMARY:EINmischen ohne AUSbrennen - Resilienz für Engagierte | aus der Re
 ihe Fit for Politics-Spezial für Frauen und FLINTA*
DTSTART:20240817T160000
DTEND:20240818T160000
UID:2026-04-24-16-39-07-0-@calendar.boell.de
DTSTAMP:20260424T143907
DESCRIPTION:▶ Siehe Veranstaltungsbeschreibung – Laatzen – Stiftung L
 eben & Umwelt / Heinrich-Böll-Stiftung Niedersachsen
END:VEVENT
END:VCALENDAR
