BEGIN:VCALENDAR
VERSION:2.0
PRODID:-//ZContent.net//ZapCalLib 1.0//EN
CALSCALE:GREGORIAN
METHOD:PUBLISH
BEGIN:VEVENT
SUMMARY:PRALINEN AUS TANGER -  Erinnerungen eines Holocaust-Ersatzkindes ü
 ber Kunst und Transformation | Buchpremiere von und mit Jana Zimmer, US-am
 erikanische Autorin und Künstlerin  
DTSTART:20240131T180000
DTEND:20240131T200000
UID:2026-04-24-07-55-40-0-@calendar.boell.de
DTSTAMP:20260424T055540
DESCRIPTION:▶ Siehe Veranstaltungsbeschreibung – Prag – Landesstiftun
 g Sachsen (Weiterdenken)
END:VEVENT
END:VCALENDAR
