BEGIN:VCALENDAR
VERSION:2.0
PRODID:-//ZContent.net//ZapCalLib 1.0//EN
CALSCALE:GREGORIAN
METHOD:PUBLISH
BEGIN:VEVENT
SUMMARY:PRALINEN AUS TANGER -  Erinnerungen eines Holocaust-Ersatzkindes ü
 ber Kunst und Transformation | Lesung und Gespräch
DTSTART:20240125T193000
DTEND:20240125T210000
UID:2026-04-25-23-42-06-0-@calendar.boell.de
DTSTAMP:20260425T214206
DESCRIPTION:▶ Siehe Veranstaltungsbeschreibung – Dresden – Landesstif
 tung Sachsen (Weiterdenken)
END:VEVENT
END:VCALENDAR
