BEGIN:VCALENDAR
VERSION:2.0
PRODID:-//ZContent.net//ZapCalLib 1.0//EN
CALSCALE:GREGORIAN
METHOD:PUBLISH
BEGIN:VEVENT
SUMMARY:Die Natur gehört sich selbst!?  | Eine Veranstaltungsreihe zu den 
 Eigenrechten der Natur
DTSTART:20240305T180000
DTEND:20240305T200000
UID:2026-04-24-00-37-30-0-@calendar.boell.de
DTSTAMP:20260423T223730
DESCRIPTION:▶ Siehe Veranstaltungsbeschreibung – Landesstiftung Thürin
 gen
END:VEVENT
END:VCALENDAR
