BEGIN:VCALENDAR
VERSION:2.0
PRODID:-//ZContent.net//ZapCalLib 1.0//EN
CALSCALE:GREGORIAN
METHOD:PUBLISH
BEGIN:VEVENT
SUMMARY:Wir können auch anders | Die Feministische Presserunde
DTSTART:20231218T180000
DTEND:20231218T193000
UID:2026-04-25-04-13-07-0-@calendar.boell.de
DTSTAMP:20260425T021307
DESCRIPTION:▶ Online-Veranstaltung – Landesstiftung Hessen
END:VEVENT
END:VCALENDAR
