BEGIN:VCALENDAR
VERSION:2.0
PRODID:-//ZContent.net//ZapCalLib 1.0//EN
CALSCALE:GREGORIAN
METHOD:PUBLISH
BEGIN:VEVENT
SUMMARY:Die Klima-Monologe | Schulveranstaltung
DTSTART:20240131T100000
DTEND:20240131T113000
UID:2026-04-23-20-59-33-0-@calendar.boell.de
DTSTAMP:20260423T185933
DESCRIPTION:▶ Siehe Veranstaltungsbeschreibung – Rostock – Landesstif
 tung Mecklenburg-Vorpommern
END:VEVENT
END:VCALENDAR
