BEGIN:VCALENDAR
VERSION:2.0
PRODID:-//ZContent.net//ZapCalLib 1.0//EN
CALSCALE:GREGORIAN
METHOD:PUBLISH
BEGIN:VEVENT
SUMMARY:“Tanzen bedeutete mir immer alles“: Dekonstruktion und Rekonstr
 uktion von trans* Leben in der NS-Zeit
DTSTART:20231124T190000
DTEND:20231124T203000
UID:2026-04-25-12-37-28-0-@calendar.boell.de
DTSTAMP:20260425T103728
DESCRIPTION:▶ Siehe Veranstaltungsbeschreibung – Greifswald – Landess
 tiftung Mecklenburg-Vorpommern
END:VEVENT
END:VCALENDAR
