BEGIN:VCALENDAR
VERSION:2.0
PRODID:-//ZContent.net//ZapCalLib 1.0//EN
CALSCALE:GREGORIAN
METHOD:PUBLISH
BEGIN:VEVENT
SUMMARY:LUCA-Kurzfilmtour für GeschlechterGerechtigkeit
DTSTART:20231014T163000
DTEND:20231014T180000
UID:2026-04-25-17-48-53-0-@calendar.boell.de
DTSTAMP:20260425T154853
DESCRIPTION:▶ Siehe Veranstaltungsbeschreibung – Zwickau – Landesstif
 tung Sachsen (Weiterdenken)
END:VEVENT
END:VCALENDAR
