BEGIN:VCALENDAR
VERSION:2.0
PRODID:-//ZContent.net//ZapCalLib 1.0//EN
CALSCALE:GREGORIAN
METHOD:PUBLISH
BEGIN:VEVENT
SUMMARY:LUCA-Kurzfilmtour für GeschlechterGerechtigkeit
DTSTART:20231010T193000
DTEND:20231010T210000
UID:2026-04-25-23-42-20-0-@calendar.boell.de
DTSTAMP:20260425T214220
DESCRIPTION:▶ Siehe Veranstaltungsbeschreibung – Freiberg – Landessti
 ftung Sachsen (Weiterdenken)
END:VEVENT
END:VCALENDAR
