BEGIN:VCALENDAR
VERSION:2.0
PRODID:-//ZContent.net//ZapCalLib 1.0//EN
CALSCALE:GREGORIAN
METHOD:PUBLISH
BEGIN:VEVENT
SUMMARY:FÄLLT AUS Wie nutzen wir das Land? | Bildungsurlaub mit dem Rad en
 tlang der Elbe zum Thema Landnutzung und Lebensqualität im ländlichen Ra
 um
DTSTART:20250907T170000
DTEND:20250912T150000
UID:2026-04-20-01-06-17-0-@calendar.boell.de
DTSTAMP:20260419T230617
DESCRIPTION:▶ Siehe Veranstaltungsbeschreibung – Landesstiftung Hamburg
END:VEVENT
END:VCALENDAR
