BEGIN:VCALENDAR
VERSION:2.0
PRODID:-//ZContent.net//ZapCalLib 1.0//EN
CALSCALE:GREGORIAN
METHOD:PUBLISH
BEGIN:VEVENT
SUMMARY:NGO statt Bundestag | Bilanz nach 5 Jahren Finanzwende
DTSTART:20231121T190000
DTEND:20231121T203000
UID:2026-04-25-01-10-23-0-@calendar.boell.de
DTSTAMP:20260424T231023
DESCRIPTION:▶ Siehe Veranstaltungsbeschreibung – 
END:VEVENT
END:VCALENDAR
