BEGIN:VCALENDAR
VERSION:2.0
PRODID:-//ZContent.net//ZapCalLib 1.0//EN
CALSCALE:GREGORIAN
METHOD:PUBLISH
BEGIN:VEVENT
SUMMARY:ON/NO Future Festival | Comic-Podcast-Rap
DTSTART:20231125T120000
DTEND:20231125T200000
UID:2026-04-25-04-09-38-0-@calendar.boell.de
DTSTAMP:20260425T020938
DESCRIPTION:▶ Siehe Veranstaltungsbeschreibung – 
END:VEVENT
END:VCALENDAR
